BEGIN:VCALENDAR
VERSION:2.0
PRODID:-//MaryAnneCowan.com - Mary Anne Cowan, Stampin&#039; Up! Demonstrator - ECPv6.15.17.1//NONSGML v1.0//EN
CALSCALE:GREGORIAN
METHOD:PUBLISH
X-ORIGINAL-URL:https://maryannecowan.com
X-WR-CALDESC:Events for MaryAnneCowan.com - Mary Anne Cowan, Stampin&#039; Up! Demonstrator
REFRESH-INTERVAL;VALUE=DURATION:PT1H
X-Robots-Tag:noindex
X-PUBLISHED-TTL:PT1H
BEGIN:VTIMEZONE
TZID:America/New_York
BEGIN:DAYLIGHT
TZOFFSETFROM:-0500
TZOFFSETTO:-0400
TZNAME:EDT
DTSTART:20220313T070000
END:DAYLIGHT
BEGIN:STANDARD
TZOFFSETFROM:-0400
TZOFFSETTO:-0500
TZNAME:EST
DTSTART:20221106T060000
END:STANDARD
BEGIN:DAYLIGHT
TZOFFSETFROM:-0500
TZOFFSETTO:-0400
TZNAME:EDT
DTSTART:20230312T070000
END:DAYLIGHT
BEGIN:STANDARD
TZOFFSETFROM:-0400
TZOFFSETTO:-0500
TZNAME:EST
DTSTART:20231105T060000
END:STANDARD
BEGIN:DAYLIGHT
TZOFFSETFROM:-0500
TZOFFSETTO:-0400
TZNAME:EDT
DTSTART:20240310T070000
END:DAYLIGHT
BEGIN:STANDARD
TZOFFSETFROM:-0400
TZOFFSETTO:-0500
TZNAME:EST
DTSTART:20241103T060000
END:STANDARD
END:VTIMEZONE
BEGIN:VEVENT
DTSTART;TZID=America/New_York:20230326T080000
DTEND;TZID=America/New_York:20230326T170000
DTSTAMP:20260420T112255
CREATED:20230326T185114Z
LAST-MODIFIED:20230326T185114Z
UID:4393-1679817600-1679850000@maryannecowan.com
SUMMARY:Fun Fold Bunny Gnomes
DESCRIPTION:Watching on Mobile?\nVideo available on my blog!\n\n		\n		\n			\n				\n			\n			\n				\n			\n			\n				\n			\n			\n				\n			\n		\n\n \nThese little Bunny Gnomes are so adorable! You can use the Gnome Dies to create Gnomes for any occasion- Easter\, St. Patrick’s Day Leprechauns\, Christmas\, Valentine’s Day… \n \n\n		\n		\n			\n				\n			\n			\n				\n			\n		\n\nThis Z-Fold is super quick and easy- and is fun to make. \nMeasurements: \n\nBasic White Cardstock 5 1/2″ x 8 1/2″ scored at 4 1/4″- then fold the top piece back on itself to form the ‘Z’ Fold\nButterfly Kisses Designer Series Paper 2″ x 5 3/8″ (2 coordinating patterns)\nButterfly Kisses DSP 2 3/4″ x 4 1/4″ – die cut using the Deckled Rectangle Dies\nVellum Cardstock die cut using the Stylish Shapes Dies\n\n\n		\n		\n			\n				\n			\n			\n				\n			\n		\n\nAnother super quick fun fold card using these cute gnomes! \nMeasurements: \n\nBasic White Card Base 4 1/4″ x 5 1/2″\nBalmy Blue Cardstock 4″ x 5 1/4″\nCountry Gingham Designer Series Paper 3 3/4″ x 5″\nBasic White Cardstock 10″ x 2 3/4″ scored at 5″\nCountry Gungham DSP 2 1/2″ x 4 3/4″ (Use a different pattern)\nVellum Cardstock- 2″ x 4″ (I used the retired Tags Dies)\n\nThanks for stopping by my blog today!\nI hope these cards inspired you to create some cute little gnomes of your own!
URL:https://maryannecowan.com/event/fun-fold-bunny-gnomes/
CATEGORIES:Gnomes
ATTACH;FMTTYPE=image/jpeg:https://maryannecowan.com/wp-content/uploads/2023/03/gnomes23.jpg
END:VEVENT
END:VCALENDAR